BEGIN:VCALENDAR
VERSION:2.0
PRODID:-//eventon.com NONSGML v1.0//EN
CALSCALE:GREGORIAN
METHOD:PUBLISH
BEGIN:VEVENT
UID:69e581d0cd919
DTSTAMP:20260420T013056Z
DTSTART:20260621T080000Z
DTEND:20260626T173000Z
LOCATION:
SUMMARY:Yin Yoga Teacher Training Ubud-Bali 21-26 June 2026
DESCRIPTION:65-Hour Somatic Yin Yoga Certification in Ubud Deep Rest · Som
 atic Awareness · Learn to Teach Yin Yoga Join us in Ubud\,  Bali for a 65-
 Hour Somatic Yin Yoga Teacher Training created for those who feel called to
  slow down\,  reconnect with the body\,  and learn how to guide others[..]\
 nhttps://yogaliciacasillas.com/events/yin-yoga-teacher-training-bali-2026/
URL:https://yogaliciacasillas.com/events/yin-yoga-teacher-training-bali-2026/
END:VEVENT
END:VCALENDAR